BEGIN:VCALENDAR
PRODID:-//Ben Fortuna//iCal4j 1.0//EN
VERSION:2.0
CALSCALE:GREGORIAN
BEGIN:VTIMEZONE
TZID:Europe/Berlin
LAST-MODIFIED:20201010T011803Z
TZURL:http://tzurl.org/zoneinfo/Europe/Berlin
X-LIC-LOCATION:Europe/Berlin
X-PROLEPTIC-TZNAME:LMT
BEGIN:STANDARD
TZNAME:CET
TZOFFSETFROM:+005328
TZOFFSETTO:+0100
DTSTART:18930401T000000
END:STANDARD
BEGIN:DAYLIGHT
TZNAME:CEST
TZOFFSETFROM:+0100
TZOFFSETTO:+0200
DTSTART:19160430T230000
RDATE:19400401T020000
RDATE:19430329T020000
RDATE:19460414T020000
RDATE:19470406T030000
RDATE:19480418T020000
RDATE:19490410T020000
RDATE:19800406T020000
END:DAYLIGHT
BEGIN:STANDARD
TZNAME:CET
TZOFFSETFROM:+0200
TZOFFSETTO:+0100
DTSTART:19161001T010000
RDATE:19421102T030000
RDATE:19431004T030000
RDATE:19441002T030000
RDATE:19451118T030000
RDATE:19461007T030000
END:STANDARD
BEGIN:DAYLIGHT
TZNAME:CEST
TZOFFSETFROM:+0100
TZOFFSETTO:+0200
DTSTART:19170416T020000
RRULE:FREQ=YEARLY;UNTIL=19180415T010000Z;BYMONTH=4;BYDAY=3MO
END:DAYLIGHT
BEGIN:STANDARD
TZNAME:CET
TZOFFSETFROM:+0200
TZOFFSETTO:+0100
DTSTART:19170917T030000
RRULE:FREQ=YEARLY;UNTIL=19180916T010000Z;BYMONTH=9;BYDAY=3MO
END:STANDARD
BEGIN:DAYLIGHT
TZNAME:CEST
TZOFFSETFROM:+0100
TZOFFSETTO:+0200
DTSTART:19440403T020000
RRULE:FREQ=YEARLY;UNTIL=19450402T010000Z;BYMONTH=4;BYDAY=1MO
END:DAYLIGHT
BEGIN:DAYLIGHT
TZNAME:CEMT
TZOFFSETFROM:+0200
TZOFFSETTO:+0300
DTSTART:19450524T020000
RDATE:19470511T030000
END:DAYLIGHT
BEGIN:DAYLIGHT
TZNAME:CEST
TZOFFSETFROM:+0300
TZOFFSETTO:+0200
DTSTART:19450924T030000
RDATE:19470629T030000
END:DAYLIGHT
BEGIN:STANDARD
TZNAME:CET
TZOFFSETFROM:+0100
TZOFFSETTO:+0100
DTSTART:19460101T000000
RDATE:19800101T000000
END:STANDARD
BEGIN:STANDARD
TZNAME:CET
TZOFFSETFROM:+0200
TZOFFSETTO:+0100
DTSTART:19471005T030000
RRULE:FREQ=YEARLY;UNTIL=19491002T010000Z;BYMONTH=10;BYDAY=1SU
END:STANDARD
BEGIN:STANDARD
TZNAME:CET
TZOFFSETFROM:+0200
TZOFFSETTO:+0100
DTSTART:19800928T030000
RRULE:FREQ=YEARLY;UNTIL=19950924T010000Z;BYMONTH=9;BYDAY=-1SU
END:STANDARD
BEGIN:DAYLIGHT
TZNAME:CEST
TZOFFSETFROM:+0100
TZOFFSETTO:+0200
DTSTART:19810329T020000
RRULE:FREQ=YEARLY;BYMONTH=3;BYDAY=-1SU
END:DAYLIGHT
BEGIN:STANDARD
TZNAME:CET
TZOFFSETFROM:+0200
TZOFFSETTO:+0100
DTSTART:19961027T030000
RRULE:FREQ=YEARLY;BYMONTH=10;BYDAY=-1SU
END:STANDARD
END:VTIMEZONE
BEGIN:VEVENT
DTSTAMP:20260421T163109Z
DTSTART;TZID=Europe/Berlin:20260222T170000
DTEND;TZID=Europe/Berlin:20260222T200000
SUMMARY:Lesung mit Lichtbildvortrag von Tatjana Kröger
CREATED:20260115T110828Z
LAST-MODIFIED:20260116T131052Z
DESCRIPTION:„Zulia ya chuma – Fliegender Teppich aus Stahl: Eisenbahnaben
 teuer auf drei Kontinenten“\n\nReisebuchautorin Tatjana Kröger hat sich 
 in 40 Jahren des Weltenbummelns immer besonders für die Eisenbahn begeis
 tert\, das erste Massenverkehrsmittel der Menschheitsgeschichte. In dies
 er Lesung stehen klassische Strecken neben Abenteuerlichem und Anekdoten
 haftem: Tatjana Kröger reist auf der Transsibirischen Eisenbahn und auf 
 der Qinghai-Tibet-Bahn in China\, der höchstgelegenen Eisenbahnstrecke d
 er Erde\, in Japans pfeilschnellem Superzug Shinkansen und im gemütliche
 n Triebwagen auf einspuriger Strecke durch Schwedens Norden. In Osteurop
 a wirkt das Bahnreisen wie ein Zeitsprung zurück in die 1970er Jahre. In
  Afrika dagegen wird es\, wie etwa in Tansania oder Sambia\, zum kollekt
 iv-interaktiven Erlebnis\; oder aber die Züge stellen sich\, wie in Ägyp
 ten\, als rollender Mikrokosmos dar. Auch ein Interview mit dem Chefstew
 ard des sündhaft teuren Luxuszuges „Blue Train“ in Südafrika fehlt nicht
  – die Autorin zeigt aber\, wie sich die Strecke selbst auch anders bere
 isen lässt.\n\nDie Lesung wird von einer Lichtbildershow begleitet.\n\nÜ
 ber die Referentin:\n\nTatjana Kröger\, Jahrgang 1962\, ist in Wildeck i
 n Nordhessen zuhause. Sie studierte Ost- und Südslawistik\, Ibero-Romani
 stik und Orientalistik in Göttingen und Moskau. Ab 1990 arbeitete sie am
  Slawischen Seminar der Universität Göttingen\, später bei einer interna
 tionalen Wirtschaftsberatungsgesellschaft. 1995 zog sie dienstlich nach 
 Malaysia um\, wo sie fünf Jahre als Projektmanagerin und Lehrerin tätig 
 war. Wenn sie nicht reist oder Reisebücher schreibt\, verdient sie ihren
  Lebensunterhalt mit Lehraufträgen an staatlichen Schulen in ihrem Heima
 tlandkreis sowie mit Vorträgen. Sie spricht dreizehn Sprachen und hat al
 s Rucksacktouristin 120 Länder bereist.
LOCATION:Niemeyer-Haus in Hönebach
X-LOCATION-NAME:Niemeyer-Haus in Hönebach
X-STREET-ADDRESS:Bahnhofstr. 4
X-POSTAL-CODE:36208
X-LOCALITY:Wildeck
ORGANIZER;CN="Fachwerk-Freunde-Hönebach e.V.":mailto:fachwerk-freunde@hoe
 nebach.de
X-ORGANIZER-NAME:Fachwerk-Freunde-Hönebach e.V.
X-ORGANIZER-EMAIL:fachwerk-freunde@hoenebach.de
X-ORGANIZER-WEBSITE:https://niemeyerhaus.de/
X-ORGANIZER-ADDRESS-POSTALCODE:36208
X-ORGANIZER-ADDRESS-LOCALITY:Wildeck
X-ORGANIZER-ADDRESS-STREET:Bahnhofstr. 4
URL:https://niemeyerhaus.de/
ATTACH;FMTTYPE=image/jpeg:https://www.wildeck.de/kalender/2025/2026-01-23
 -kneipenabend-im-niemeyer-haus/20250829-114215.jpg?cid=bs1.1hoo
UID:c2569812-28a6-4d1f-9ec0-acbb99e58485
END:VEVENT
END:VCALENDAR
